BEGIN:VCALENDAR
VERSION:2.0
PRODID:-//ChamberMaster//Event Calendar 2.0//EN
METHOD:PUBLISH
X-PUBLISHED-TTL:P1H
REFRESH-INTERVAL:P1H
CALSCALE:GREGORIAN
BEGIN:VTIMEZONE
TZID:America/Chicago
BEGIN:DAYLIGHT
RRULE:FREQ=YEARLY;BYMONTH=3;BYDAY=2SU
DTSTART:20070101T000000
TZOFFSETFROM:-0600
TZOFFSETTO:-0500
TZNAME:Central Daylight Time
END:DAYLIGHT
BEGIN:STANDARD
RRULE:FREQ=YEARLY;BYMONTH=11;BYDAY=1SU
DTSTART:20070101T000000
TZOFFSETFROM:-0500
TZOFFSETTO:-0600
TZNAME:Central Standard Time
END:STANDARD
END:VTIMEZONE
BEGIN:VEVENT
DTSTART;TZID=America/Chicago:20260430T080000
DTEND;TZID=America/Chicago:20260630T235900
X-MICROSOFT-CDO-ALLDAYEVENT:FALSE
SUMMARY:2026 APRN Conference On-Demand
DESCRIPTION:Don't miss the 2026 Advanced Practice Registered Nurse (APRN) Conference On-Demand!The 2026 APRN Conference is a virtual\, on-demand activity. This conference is designed for advanced practice nurses recognized as nurse practitioners and clinical nurse specialists. Participation in the event will help APRNs: 1) Develop clinical skills and knowledge applicable to advanced practice nursing\, and 2) Describe current and future trends impacting advanced practice nursing.Pre-registration is required for access to the on-demand activity.  Early-bird registration closes on April 1\, 2026. Individuals are allowed to register after April 1st\, but registration fees increase by $50.00. No registrations accepted after June 1\, 2026.A link to access the on-demand activity will be emailed to all pre-registered individuals the week of April 27\, so you can view the modules at your convenience\, anytime\, anywhere.Register now to have 24/7 access to this on-demand event!Presentations Available On Demand\nApril 30 - June 30\, 2026This on-demand event will feature five 75-minute and ten 60-minute presentations on a variety of topics. Click here for a complete list of presentations/topics* being provided on-demand!* Sessions and total contact hours provided subject to changeRegistration:$375.00 Member$425.00 Non MemberRegister now by clicking the Register    button in the upper right. (Note: If you do not see this button\, you are probably already on the registration page. If you are\, you can simply scroll down and enter your information.)Refund/Cancellation Policy   Registration fees\, less a $50.00 enrollment processing fee\, will be refunded to registrants who cannot attend and notify the Missouri Nurses Association/VTL Solutions office in writing of the cancellation before April 1\, 2026. No refunds will be made after April 1\, 2026.DisclosuresSuccessful Completion   Attendees must register\, view the presentation recordings\, complete an online verification of attendance form\, noting the sessions they viewed\, and complete an online conference evaluation to receive a certificate of completion. The link to the online evaluation is available on the on-demand site. Contact Hours   A total of 16.25 contact hours are available to those who meet the successful completion requirements. Contact hours will only be available to those who view the presentations before June 30\, 2026.Relevant Financial Relationships - The following planners and presenters identified financial relationships with ineligible companies:Speaker Wendy Wright is an advisor\, on the speakers bureau and serves as a consultant for AstraZeneca\, Exact Sciences\, Merck\, Moderna\, Pfizer\, Sanofi\, and Seqirus. Wendy also serves on the speaker bureau for Axsome\, on the advisory board for AbbVie and as a consultant for GSK.All relevant financial relationships for these individuals have been mitigated. No other relevant financial relationships were identified for any member of the planning committee or presenter/author.Accreditation\n\nVTL Center for Professional Development is accredited as a provider of nursing continuing professional development by the American Nurses Credentialing Center's Commission on Accreditation.What is VTL Solutions? The Kansas State Nurses Association\, Missouri Nurses Association and Nebraska Nurses Association formed a collaborative\, namely VTL Solutions (formerly known as the Midwest Multistate Division or Midwest MSD)\, with the goal of promoting efficiencies and growth. As part of this collaborative\, the VTL Center for Professional Development (VTL Center for PD) was formed\, which is accredited as an ANCC approver and provider of NCPD\, to address the educational needs of nurses in the participating states.Those certified through AANP   Contact hours received through participation in this event are acceptable toward certification/recertification through the American Academy of Nurse Practitioners (AANP). Per the AANP guidelines\, the American Nurses Credentialing Center (ANCC) is an acceptable\, accredited and independent organization that provides advanced nursing CE content for NPs seeking renewal using continuing education credit. (https://www.aanpcert.org/recert/ce_opps\; Recertification Handbook.Questions? Please contact events@vtls.org with any questions.
X-ALT-DESC;FMTTYPE=text/html:<!DOCTYPE html><html><head><title></title></head><body aria-disabled="false"><p><strong fr-original-style="" style="font-weight: 700\;"><span style="color: rgb(0\, 156\, 222)\;">Don&#39\;t miss the 2026 Advanced Practice Registered Nurse (APRN) Conference On-Demand!</span></strong></p><p>The 2026 APRN Conference is a virtual\, on-demand activity. This conference is designed for advanced practice nurses recognized as nurse practitioners and clinical nurse specialists. Participation in the event will help APRNs: 1) Develop clinical skills and knowledge applicable to advanced practice nursing\, and 2) Describe current and future trends impacting advanced practice nursing.</p><p>Pre-registration is required for access to the on-demand activity. &nbsp\;</p><p>Early-bird registration closes on <strong fr-original-style="" style="font-weight: 700\;">April 1\, 2026</strong>. Individuals are allowed to register after April 1st\, but registration fees increase by $50.00. No registrations accepted after June 1\, 2026.</p><p>A link to access the on-demand activity will be emailed to all pre-registered individuals the week of April 27\, so you can view the modules at your convenience\, anytime\, anywhere.</p><p><a fr-original-style="" href="https://members.missourinurses.org/ap/Events/Register/eZFOYJ4sYCWCq" rel="noopener noreferrer" style="user-select: auto\;" target="_blank"><strong fr-original-style="" style="font-weight: 700\;">Register now</strong></a><strong fr-original-style="" style="font-weight: 700\;">&nbsp\;to have 24/7 access to this on-demand event!</strong></p><hr fr-original-style="" style="clear: both\; user-select: none\; break-after: page\;"><p style="text-align: left\;"><strong fr-original-style="" style="font-weight: 700\;">Presentations Available On Demand<br style="color: rgb(0\, 0\, 0)\; font-family: Arial\; font-size: medium\; font-style: normal\; font-variant-ligatures: normal\; font-variant-caps: normal\; font-weight: 400\; letter-spacing: normal\; orphans: 2\; text-align: center\; text-indent: 0px\; text-transform: none\; widows: 2\; word-spacing: 0px\; -webkit-text-stroke-width: 0px\; white-space: normal\; text-decoration-thickness: initial\; text-decoration-style: initial\; text-decoration-color: initial\;">April 30 - June 30\, 2026</strong></p><p>This on-demand event will feature five 75-minute and ten 60-minute presentations on a variety of topics.&nbsp\;</p><p><a fr-original-style="" href="https://missourinursesassociation.growthzoneapp.com/ap/CloudFile/Download/Lw3MRvxL" rel="noopener noreferrer" style="user-select: auto\;" target="_blank"><span style="color: rgb(0\, 156\, 222)\;"><strong fr-original-style="" style="font-weight: 700\;">Click here</strong></span></a> for a complete list of presentations/topics* being provided on-demand!</p><p><em><span style="font-size: 12px\;">* Sessions and total contact hours provided subject to change</span></em></p><p><strong fr-original-style="" style="font-weight: 700\;">Registration:</strong></p><ul fr-original-style="list-style-position: inside\; color: rgb(0\, 0\, 0)\; font-family: Arial\; font-size: medium\; font-style: normal\; font-variant-ligatures: normal\; font-variant-caps: normal\; font-weight: 400\; letter-spacing: normal\; orphans: 2\; text-align: start\; text-indent: 0px\; text-transform: none\; widows: 2\; word-spacing: 0px\; -webkit-text-stroke-width: 0px\; white-space: normal\; text-decoration-thickness: initial\; text-decoration-style: initial\; text-decoration-color: initial\; margin-left: 20px\;" style="list-style-position: inside\; color: rgb(0\, 0\, 0)\; font-family: Arial\; font-size: medium\; font-style: normal\; font-variant-ligatures: normal\; font-variant-caps: normal\; font-weight: 400\; letter-spacing: normal\; orphans: 2\; text-align: start\; text-indent: 0px\; text-transform: none\; widows: 2\; word-spacing: 0px\; -webkit-text-stroke-width: 0px\; white-space: normal\; text-decoration-thickness: initial\; text-decoration-style: initial\; text-decoration-color: initial\; margin-left: 20px\;"><li>$375.00 Member</li><li>$425.00 Non Member</li></ul><p>Register now by clicking the <strong fr-original-style="" style="font-weight: 700\;">Register &gt\;&gt\;</strong> button in the upper right. (Note: If you do not see this button\, you are probably already on the registration page. If you are\, you can simply scroll down and enter your information.)</p><p><span style="font-size: 12px\;"><strong fr-original-style="" style="font-weight: 700\;">Refund/Cancellation Policy</strong> &ndash\; Registration fees\, less a $50.00 enrollment processing fee\, will be refunded to registrants who cannot attend and notify the Missouri Nurses Association/VTL Solutions office in writing of the cancellation before April 1\, 2026. No refunds will be made after April 1\, 2026.</span></p><hr fr-original-style="" style="clear: both\; user-select: none\; break-after: page\;"><p style="color: rgb(0\, 0\, 0)\; font-family: Arial\; font-size: medium\; font-style: normal\; font-variant-ligatures: normal\; font-variant-caps: normal\; font-weight: 400\; letter-spacing: normal\; orphans: 2\; text-align: start\; text-indent: 0px\; text-transform: none\; widows: 2\; word-spacing: 0px\; -webkit-text-stroke-width: 0px\; white-space: normal\; text-decoration-thickness: initial\; text-decoration-style: initial\; text-decoration-color: initial\;"><strong fr-original-style="font-weight: 700\;" style="font-weight: 700\;">Disclosures</strong></p><p style="color: rgb(0\, 0\, 0)\; font-family: Arial\; font-size: medium\; font-style: normal\; font-variant-ligatures: normal\; font-variant-caps: normal\; font-weight: 400\; letter-spacing: normal\; orphans: 2\; text-align: start\; text-indent: 0px\; text-transform: none\; widows: 2\; word-spacing: 0px\; -webkit-text-stroke-width: 0px\; white-space: normal\; text-decoration-thickness: initial\; text-decoration-style: initial\; text-decoration-color: initial\; margin-left: 20px\;"><strong fr-original-style="font-weight: 700\;" style="font-weight: 700\;">Successful Completion</strong> &ndash\; Attendees must register\, view the presentation recordings\, complete an online verification of attendance form\, noting the sessions they viewed\, and complete an online conference evaluation to receive a certificate of completion. The link to the online evaluation is available on the on-demand site.&nbsp\;</p><p style="color: rgb(0\, 0\, 0)\; font-family: Arial\; font-size: medium\; font-style: normal\; font-variant-ligatures: normal\; font-variant-caps: normal\; font-weight: 400\; letter-spacing: normal\; orphans: 2\; text-align: start\; text-indent: 0px\; text-transform: none\; widows: 2\; word-spacing: 0px\; -webkit-text-stroke-width: 0px\; white-space: normal\; text-decoration-thickness: initial\; text-decoration-style: initial\; text-decoration-color: initial\; margin-left: 20px\;"><strong fr-original-style="font-weight: 700\;" style="font-weight: 700\;">Contact Hours</strong> &ndash\; A total of 16.25 contact hours are available to those who meet the successful completion requirements. Contact hours will only be available to those who view the presentations before June 30\, 2026.</p><p style="color: rgb(0\, 0\, 0)\; font-family: Arial\; font-size: medium\; font-style: normal\; font-variant-ligatures: normal\; font-variant-caps: normal\; font-weight: 400\; letter-spacing: normal\; orphans: 2\; text-align: start\; text-indent: 0px\; text-transform: none\; widows: 2\; word-spacing: 0px\; -webkit-text-stroke-width: 0px\; white-space: normal\; text-decoration-thickness: initial\; text-decoration-style: initial\; text-decoration-color: initial\; margin-left: 20px\;"><strong fr-original-style="" style="font-weight: 700\;">Relevant Financial Relationships</strong> - The following planners and presenters identified financial relationships with ineligible companies:</p><ul fr-original-style=""><li>Speaker Wendy Wright is an advisor\, on the speakers bureau and serves as a consultant for AstraZeneca\, Exact Sciences\, Merck\, Moderna\, Pfizer\, Sanofi\, and Seqirus. Wendy also serves on the speaker bureau for Axsome\, on the advisory board for AbbVie and as a consultant for GSK.</li></ul><p style="margin-left: 20px\;">All relevant financial relationships for these individuals have been mitigated. No other relevant financial relationships were identified for any member of the planning committee or presenter/author.</p><hr style="clear: both\; user-select: none\; break-after: page\; color: rgb(0\, 0\, 0)\; font-family: Arial\; font-size: medium\; font-style: normal\; font-variant-ligatures: normal\; font-variant-caps: normal\; font-weight: 400\; letter-spacing: normal\; orphans: 2\; text-align: start\; text-indent: 0px\; text-transform: none\; widows: 2\; word-spacing: 0px\; -webkit-text-stroke-width: 0px\; white-space: normal\; text-decoration-thickness: initial\; text-decoration-style: initial\; text-decoration-color: initial\;" fr-original-style="clear: both\; user-select: none\; break-after: page\; color: rgb(0\, 0\, 0)\; font-family: Arial\; font-size: medium\; font-style: normal\; font-variant-ligatures: normal\; font-variant-caps: normal\; font-weight: 400\; letter-spacing: normal\; orphans: 2\; text-align: start\; text-indent: 0px\; text-transform: none\; widows: 2\; word-spacing: 0px\; -webkit-text-stroke-width: 0px\; white-space: normal\; text-decoration-thickness: initial\; text-decoration-style: initial\; text-decoration-color: initial\;"><p style="color: rgb(0\, 0\, 0)\; font-family: Arial\; font-size: medium\; font-style: normal\; font-variant-ligatures: normal\; font-variant-caps: normal\; font-weight: 400\; letter-spacing: normal\; orphans: 2\; text-indent: 0px\; text-transform: none\; widows: 2\; word-spacing: 0px\; -webkit-text-stroke-width: 0px\; white-space: normal\; text-decoration-thickness: initial\; text-decoration-style: initial\; text-decoration-color: initial\; text-align: left\;"><strong fr-original-style="font-weight: 700\;" style="font-weight: 700\;">Accreditation</strong><br><br>VTL Center for Professional Development is accredited as a provider of nursing continuing professional development by the American Nurses Credentialing Center&rsquo\;s Commission on Accreditation.</p><p style="color: rgb(0\, 0\, 0)\; font-family: Arial\; font-size: medium\; font-style: normal\; font-variant-ligatures: normal\; font-variant-caps: normal\; font-weight: 400\; letter-spacing: normal\; orphans: 2\; text-align: start\; text-indent: 0px\; text-transform: none\; widows: 2\; word-spacing: 0px\; -webkit-text-stroke-width: 0px\; white-space: normal\; text-decoration-thickness: initial\; text-decoration-style: initial\; text-decoration-color: initial\;"><em><span style="font-size: 11px\;">What is VTL Solutions? The Kansas State Nurses Association\, Missouri Nurses Association and Nebraska Nurses Association formed a collaborative\, namely VTL Solutions (formerly known as the Midwest Multistate Division or Midwest MSD)\, with the goal of promoting efficiencies and growth. As part of this collaborative\, the VTL Center for Professional Development (VTL Center for PD) was formed\, which is accredited as an ANCC approver and provider of NCPD\, to address the educational needs of nurses in the participating states.</span></em></p><p style="color: rgb(0\, 0\, 0)\; font-family: Arial\; font-size: medium\; font-style: normal\; font-variant-ligatures: normal\; font-variant-caps: normal\; font-weight: 400\; letter-spacing: normal\; orphans: 2\; text-align: start\; text-indent: 0px\; text-transform: none\; widows: 2\; word-spacing: 0px\; -webkit-text-stroke-width: 0px\; white-space: normal\; text-decoration-thickness: initial\; text-decoration-style: initial\; text-decoration-color: initial\;"><strong fr-original-style="font-weight: 700\;" style="font-weight: 700\;"><span style="font-size: 12px\;">Those certified through AANP</span></strong><span style="font-size: 12px\;">&nbsp\;&ndash\; Contact hours received through participation in this event are acceptable toward certification/recertification through the American Academy of Nurse Practitioners (AANP). Per the AANP guidelines\, the American Nurses Credentialing Center (ANCC) is an acceptable\, accredited and independent organization that provides advanced nursing CE content for NPs seeking renewal using continuing education credit. (<a fr-original-style="user-select: auto\;" href="https://www.aanpcert.org/recert/ce_opps" style="user-select: auto\;">https://www.aanpcert.org/recert/ce_opps</a>\; Recertification Handbook.</span></p><hr fr-original-style="" style="clear: both\; user-select: none\; break-after: page\;"><p><strong fr-original-style="font-weight: 700\; color: rgb(0\, 0\, 0)\; font-family: Arial\; font-size: medium\; font-style: normal\; font-variant-ligatures: normal\; font-variant-caps: normal\; letter-spacing: normal\; orphans: 2\; text-align: start\; text-indent: 0px\; text-transform: none\; widows: 2\; word-spacing: 0px\; -webkit-text-stroke-width: 0px\; white-space: normal\; text-decoration-thickness: initial\; text-decoration-style: initial\; text-decoration-color: initial\;" style="font-weight: 700\; color: rgb(0\, 0\, 0)\; font-family: Arial\; font-size: medium\; font-style: normal\; font-variant-ligatures: normal\; font-variant-caps: normal\; letter-spacing: normal\; orphans: 2\; text-align: start\; text-indent: 0px\; text-transform: none\; widows: 2\; word-spacing: 0px\; -webkit-text-stroke-width: 0px\; white-space: normal\; text-decoration-thickness: initial\; text-decoration-style: initial\; text-decoration-color: initial\;"><span style="color: rgb(0\, 156\, 222)\;">Questions?</span>&nbsp\;</strong><span style="color: rgb(0\, 0\, 0)\; font-family: Arial\; font-size: medium\; font-style: normal\; font-variant-ligatures: normal\; font-variant-caps: normal\; font-weight: 400\; letter-spacing: normal\; orphans: 2\; text-align: start\; text-indent: 0px\; text-transform: none\; widows: 2\; word-spacing: 0px\; -webkit-text-stroke-width: 0px\; white-space: normal\; text-decoration-thickness: initial\; text-decoration-style: initial\; text-decoration-color: initial\; display: inline !important\; float: none\;">Please contact&nbsp\;</span><a fr-original-style="" href="mailto:events@vtls.org" style="user-select: auto\;"><span style="color: rgb(0\, 0\, 0)\; font-family: Arial\; font-size: medium\; font-style: normal\; font-variant-ligatures: normal\; font-variant-caps: normal\; font-weight: 400\; letter-spacing: normal\; orphans: 2\; text-align: start\; text-indent: 0px\; text-transform: none\; widows: 2\; word-spacing: 0px\; -webkit-text-stroke-width: 0px\; white-space: normal\; text-decoration-thickness: initial\; text-decoration-style: initial\; text-decoration-color: initial\; display: inline !important\; float: none\;">events@vtls.org</span></a><span style="color: rgb(0\, 0\, 0)\; font-family: Arial\; font-size: medium\; font-style: normal\; font-variant-ligatures: normal\; font-variant-caps: normal\; font-weight: 400\; letter-spacing: normal\; orphans: 2\; text-align: start\; text-indent: 0px\; text-transform: none\; widows: 2\; word-spacing: 0px\; -webkit-text-stroke-width: 0px\; white-space: normal\; text-decoration-thickness: initial\; text-decoration-style: initial\; text-decoration-color: initial\; display: inline !important\; float: none\;">&nbsp\;</span><a href="mailto:sara@vtls.org" fr-original-style="" style="user-select: auto\;"></a><a href="mailto:sara@midwestnurses.org" style="user-select: auto\; font-family: Arial\; font-size: medium\; font-style: normal\; font-variant-ligatures: normal\; font-variant-caps: normal\; font-weight: 400\; letter-spacing: normal\; orphans: 2\; text-align: start\; text-indent: 0px\; text-transform: none\; widows: 2\; word-spacing: 0px\; -webkit-text-stroke-width: 0px\; white-space: normal\;" fr-original-style="user-select: auto\; font-family: Arial\; font-size: medium\; font-style: normal\; font-variant-ligatures: normal\; font-variant-caps: normal\; font-weight: 400\; letter-spacing: normal\; orphans: 2\; text-align: start\; text-indent: 0px\; text-transform: none\; widows: 2\; word-spacing: 0px\; -webkit-text-stroke-width: 0px\; white-space: normal\;"></a><span style="color: rgb(0\, 0\, 0)\; font-family: Arial\; font-size: medium\; font-style: normal\; font-variant-ligatures: normal\; font-variant-caps: normal\; font-weight: 400\; letter-spacing: normal\; orphans: 2\; text-align: start\; text-indent: 0px\; text-transform: none\; widows: 2\; word-spacing: 0px\; -webkit-text-stroke-width: 0px\; white-space: normal\; text-decoration-thickness: initial\; text-decoration-style: initial\; text-decoration-color: initial\; display: inline !important\; float: none\;">with any questions.</span></p></body></html>
LOCATION:
UID:e.3466.1380934
SEQUENCE:3
DTSTAMP:20260424T023523Z
URL:https://members.missourinurses.org/app-calendar/Details/2026-aprn-conference-on-demand-1630660?sourceTypeId=Hub
END:VEVENT
END:VCALENDAR
