BEGIN:VCALENDAR
VERSION:2.0
PRODID:-//ChamberMaster//Event Calendar 2.0//EN
METHOD:PUBLISH
X-PUBLISHED-TTL:P1H
REFRESH-INTERVAL:P1H
CALSCALE:GREGORIAN
BEGIN:VTIMEZONE
TZID:America/Chicago
BEGIN:DAYLIGHT
RRULE:FREQ=YEARLY;BYMONTH=3;BYDAY=2SU
DTSTART:20070101T000000
TZOFFSETFROM:-0600
TZOFFSETTO:-0500
TZNAME:Central Daylight Time
END:DAYLIGHT
BEGIN:STANDARD
RRULE:FREQ=YEARLY;BYMONTH=11;BYDAY=1SU
DTSTART:20070101T000000
TZOFFSETFROM:-0500
TZOFFSETTO:-0600
TZNAME:Central Standard Time
END:STANDARD
END:VTIMEZONE
BEGIN:VEVENT
DTSTART;TZID=America/Chicago:20260415T110000
DTEND;TZID=America/Chicago:20260415T160000
X-MICROSOFT-CDO-ALLDAYEVENT:FALSE
SUMMARY:MONA Day at the Capitol
DESCRIPTION:Join us for the MONA Day at the Capitol! This event is a fantastic opportunity for Nurses to come together\, discuss important issues and legislation affecting their profession\, and advocate for their patients and practice. There is no cost to attend this event \, however\, participants will be responsible for the cost of their own meals at Cinco De Mayo. We will meet at Cinco De Mayo at 11:00 am and head over to the Capitol at 1:00 pm.Please note this event is a separate event from MONA's annual Nurse Advocacy Day!
X-ALT-DESC;FMTTYPE=text/html:<!DOCTYPE html><html><head><title></title></head><body aria-disabled="false"><p>Join us for the MONA Day at the Capitol! This event is a fantastic opportunity for Nurses to come together\, discuss important issues and legislation affecting their profession\, and advocate for their patients and practice. There is no cost to attend this event \, however\, participants will be responsible for the cost of their own meals at Cinco De Mayo. We will meet at Cinco De Mayo at 11:00 am and head over to the Capitol at 1:00 pm.</p><p><em style='line-height: inherit\; color: rgb(186\, 55\, 42)\; font-family: "Source Sans Pro"\, sans-serif\; font-size: 14px\; font-variant-ligatures: normal\; font-variant-caps: normal\; font-weight: 400\; letter-spacing: normal\; orphans: 2\; text-align: center\; text-indent: 0px\; text-transform: none\; widows: 2\; word-spacing: 0px\; -webkit-text-stroke-width: 0px\; white-space: normal\; background-color: rgb(246\, 246\, 246)\; text-decoration-thickness: initial\; text-decoration-style: initial\; text-decoration-color: initial\;'>Please note this event is a&nbsp\;<strong fr-original-style="line-height: inherit\;" style="line-height: inherit\; font-weight: 700\;"><span style="line-height: 15.4px\; text-decoration: underline\;">separate</span>&nbsp\;</strong>event from MONA&#39\;s annual Nurse Advocacy Day!</em> </p></body></html>
LOCATION:409 W Miller St Jefferson City MO 65101
UID:e.3466.1300744
SEQUENCE:3
DTSTAMP:20260424T023707Z
URL:https://members.missourinurses.org/app-calendar/Details/mona-day-at-the-capitol-1523061?sourceTypeId=Hub
END:VEVENT
END:VCALENDAR
