BEGIN:VCALENDAR
VERSION:2.0
PRODID:-//ChamberMaster//Event Calendar 2.0//EN
METHOD:PUBLISH
X-PUBLISHED-TTL:P1H
REFRESH-INTERVAL:P1H
CALSCALE:GREGORIAN
BEGIN:VTIMEZONE
TZID:America/Chicago
BEGIN:DAYLIGHT
RRULE:FREQ=YEARLY;BYMONTH=3;BYDAY=2SU
DTSTART:20070101T000000
TZOFFSETFROM:-0600
TZOFFSETTO:-0500
TZNAME:Central Daylight Time
END:DAYLIGHT
BEGIN:STANDARD
RRULE:FREQ=YEARLY;BYMONTH=11;BYDAY=1SU
DTSTART:20070101T000000
TZOFFSETFROM:-0500
TZOFFSETTO:-0600
TZNAME:Central Standard Time
END:STANDARD
END:VTIMEZONE
BEGIN:VEVENT
DTSTART;TZID=America/Chicago:20260512T180000
DTEND;TZID=America/Chicago:20260512T190000
X-MICROSOFT-CDO-ALLDAYEVENT:FALSE
SUMMARY:South Region Meeting [Virtual] - Child Advocacy Center Presentation
DESCRIPTION:Join us for an informative session with Shelley Carter\, Medical Program Manager and Nurse Practitioner from the Child Advocacy Center\, who will provide an overview of her role in supporting children and families affected by abuse and neglect. This presentation will also review mandatory reporting requirements for nurses\, including when and how to report\, with a focus on recognizing concerns and understanding your responsibilities in clinical practice.
X-ALT-DESC;FMTTYPE=text/html:Join us for an informative session with Shelley Carter\, Medical Program Manager and Nurse Practitioner from the Child Advocacy Center\, who will provide an overview of her role in supporting children and families affected by abuse and neglect. This presentation will also review mandatory reporting requirements for nurses\, including when and how to report\, with a focus on recognizing concerns and understanding your responsibilities in clinical practice.
LOCATION:
UID:e.3466.1449542
SEQUENCE:3
DTSTAMP:20260424T023542Z
URL:https://members.missourinurses.org/app-calendar/Details/south-region-meeting-virtual-child-advocacy-center-presentation-1716991?sourceTypeId=Hub
END:VEVENT
END:VCALENDAR
