BEGIN:VCALENDAR
VERSION:2.0
PRODID:-//ChamberMaster//Event Calendar 2.0//EN
METHOD:PUBLISH
X-PUBLISHED-TTL:P1H
REFRESH-INTERVAL:P1H
CALSCALE:GREGORIAN
BEGIN:VTIMEZONE
TZID:America/Chicago
BEGIN:DAYLIGHT
RRULE:FREQ=YEARLY;BYMONTH=3;BYDAY=2SU
DTSTART:20070101T000000
TZOFFSETFROM:-0600
TZOFFSETTO:-0500
TZNAME:Central Daylight Time
END:DAYLIGHT
BEGIN:STANDARD
RRULE:FREQ=YEARLY;BYMONTH=11;BYDAY=1SU
DTSTART:20070101T000000
TZOFFSETFROM:-0500
TZOFFSETTO:-0600
TZNAME:Central Standard Time
END:STANDARD
END:VTIMEZONE
BEGIN:VEVENT
DTSTART;TZID=America/Chicago:20260520T180000
DTEND;TZID=America/Chicago:20260520T193000
X-MICROSOFT-CDO-ALLDAYEVENT:FALSE
SUMMARY:East Region Meeting [St. Louis\, MO] - Legislative update
DESCRIPTION:Join us for a Missouri Nurses Association Region Meeting / legislative update! Connect with fellow nurses\, share insights\, and discuss key issues impacting our profession.Sign-in at 6 pm - presentation at 6:30 pm.Speakers: Kyna Iman\, MONA Lobbyist and Jack Seigel\, MONA Outreach ManagerPlease RSVP by May 19th @ 5pm to Rhonda Newberry - newberry2748@gmail.com or 314-610-0919
X-ALT-DESC;FMTTYPE=text/html:<!DOCTYPE html><html><head><title></title></head><body aria-disabled="false"><p>Join us for a Missouri Nurses Association Region Meeting / legislative update! Connect with fellow nurses\, share insights\, and discuss key issues impacting our profession.</p><p>Sign-in at 6 pm - presentation at 6:30 pm.</p><p><strong fr-original-style="" style="font-weight: 700\;">Speakers:</strong> Kyna Iman\, MONA Lobbyist and Jack Seigel\, MONA Outreach Manager</p><p><strong fr-original-style="" style="font-weight: 700\;">Please RSVP</strong> by May 19th @ 5pm to Rhonda Newberry - newberry2748@gmail.com or 314-610-0919</p></body></html>
LOCATION:3801 Watson Rd St. Louis MO 63109
UID:e.3466.1424528
SEQUENCE:3
DTSTAMP:20260422T083154Z
URL:https://members.missourinurses.org/calendar/Details/east-region-meeting-st-louis-mo-legislative-update-1684256?sourceTypeId=Hub
END:VEVENT
END:VCALENDAR
