BEGIN:VCALENDAR
VERSION:2.0
PRODID:-//ChamberMaster//Event Calendar 2.0//EN
METHOD:PUBLISH
X-PUBLISHED-TTL:P1H
REFRESH-INTERVAL:P1H
CALSCALE:GREGORIAN
BEGIN:VTIMEZONE
TZID:America/Chicago
BEGIN:DAYLIGHT
RRULE:FREQ=YEARLY;BYMONTH=3;BYDAY=2SU
DTSTART:20070101T000000
TZOFFSETFROM:-0600
TZOFFSETTO:-0500
TZNAME:Central Daylight Time
END:DAYLIGHT
BEGIN:STANDARD
RRULE:FREQ=YEARLY;BYMONTH=11;BYDAY=1SU
DTSTART:20070101T000000
TZOFFSETFROM:-0500
TZOFFSETTO:-0600
TZNAME:Central Standard Time
END:STANDARD
END:VTIMEZONE
BEGIN:VEVENT
DTSTART;TZID=America/Chicago:20260427T180000
DTEND;TZID=America/Chicago:20260427T190000
X-MICROSOFT-CDO-ALLDAYEVENT:FALSE
SUMMARY:South Region Meeting [Virtual] - Sexual Assault Nurse Examiner (SANE) Presentation
DESCRIPTION:Join us for a focused overview of Sexual Assault Nurse Examiner (SANE) and psychiatric nursing roles\, highlighting forensic responsibilities and mental health assessment and stabilization. This session offers insight into these specialties for nurses interested in expanding their scope or understanding of these areas.Presenter: Sam White\, RN\, SANE\, Clinical Nurse Educator
X-ALT-DESC;FMTTYPE=text/html:<!DOCTYPE html><html><head><title></title></head><body aria-disabled="false"><p>Join us for a focused overview of Sexual Assault Nurse Examiner (SANE) and psychiatric nursing roles\, highlighting forensic responsibilities and mental health assessment and stabilization. This session offers insight into these specialties for nurses interested in expanding their scope or understanding of these areas.</p><p>Presenter: Sam White\, RN\, SANE\, Clinical Nurse Educator</p></body></html>
LOCATION:
UID:e.3466.1439608
SEQUENCE:3
DTSTAMP:20260422T082713Z
URL:https://members.missourinurses.org/calendar/Details/south-region-meeting-virtual-sexual-assault-nurse-examiner-sane-presentation-1704246?sourceTypeId=Hub
END:VEVENT
END:VCALENDAR
