BEGIN:VCALENDAR
VERSION:2.0
PRODID:-//ChamberMaster//Event Calendar 2.0//EN
METHOD:PUBLISH
X-PUBLISHED-TTL:P1H
REFRESH-INTERVAL:P1H
CALSCALE:GREGORIAN
BEGIN:VTIMEZONE
TZID:America/Chicago
BEGIN:DAYLIGHT
RRULE:FREQ=YEARLY;BYMONTH=3;BYDAY=2SU
DTSTART:20070101T000000
TZOFFSETFROM:-0600
TZOFFSETTO:-0500
TZNAME:Central Daylight Time
END:DAYLIGHT
BEGIN:STANDARD
RRULE:FREQ=YEARLY;BYMONTH=11;BYDAY=1SU
DTSTART:20070101T000000
TZOFFSETFROM:-0500
TZOFFSETTO:-0600
TZNAME:Central Standard Time
END:STANDARD
END:VTIMEZONE
BEGIN:VEVENT
DTSTART;TZID=America/Chicago:20260415T180000
DTEND;TZID=America/Chicago:20260415T190000
X-MICROSOFT-CDO-ALLDAYEVENT:FALSE
SUMMARY:West Region Meeting [Virtual] - Insights into Long COVID Treatment 2021-2026
DESCRIPTION:Join fellow West region members for a virtual meeting on April 15! Below is the agenda: Presentation from Wesley Strouts\, Nurse Practitioner\, Internal Medicine & Center for COVID Recovery   University HealthConnect with MONA members Legislative UpdatesHear about opportunities to get involvedWe hope you can join us! Register for Zoom details.
X-ALT-DESC;FMTTYPE=text/html:<!DOCTYPE html><html><head><title></title></head><body aria-disabled="false"><p>Join fellow West region members for a virtual meeting on April 15!&nbsp\;</p><p>Below is the agenda:&nbsp\;</p><ul fr-original-style="" style="list-style-position: inside\;"><li>Presentation from Wesley Strouts\, Nurse Practitioner\, Internal Medicine &amp\; Center for COVID Recovery &ndash\; University Health</li><li>Connect with MONA members&nbsp\;</li><li>Legislative Updates</li><li>Hear about opportunities to get involved</li></ul><p>We hope you can join us! <span style="color: rgb(203\, 55\, 39)\;"><a fr-original-style="" href="https://members.missourinurses.org/ap/Events/Register/kgFzKMlfzCVC1" rel="noopener noreferrer" style="user-select: auto\; color: inherit\;" target="_blank"><strong fr-original-style="" style="font-weight: 700\;">Register</strong></a></span> for Zoom details.</p></body></html>
LOCATION:
UID:e.3466.1435803
SEQUENCE:3
DTSTAMP:20260422T083831Z
URL:https://members.missourinurses.org/calendar/Details/west-region-meeting-virtual-insights-into-long-covid-treatment-2021-2026-1699618?sourceTypeId=Hub
END:VEVENT
END:VCALENDAR
